BEGIN:VCALENDAR
VERSION:2.0
PRODID:-//wp-events-plugin.com//7.2.3.1//EN
TZID:America/New_York
X-WR-TIMEZONE:America/New_York
BEGIN:VEVENT
UID:1276@charitygolfguns.com
DTSTART;TZID=America/New_York:20260327T083000
DTEND;TZID=America/New_York:20260327T100000
DTSTAMP:20260324T183627Z
URL:https://charitygolfguns.com/events/5th-annual-trinity-christian-golf-s
 cramble/
SUMMARY:2026 5th Annual Trinity Christian Golf Scramble
DESCRIPTION:5th Annual Trinity Christian Golf Scramble
CATEGORIES:Georgia,Upcoming Events
LOCATION:White Oak golf club\,  141 Clubview Drive\,  Newnan\, GA \, 30265\
 , United States
X-APPLE-STRUCTURED-LOCATION;VALUE=URI;X-ADDRESS= 141 Clubview Drive\,  Newn
 an\, GA \, 30265\, United States;X-APPLE-RADIUS=100;X-TITLE=White Oak golf
  club:geo:0,0
END:VEVENT
BEGIN:VTIMEZONE
TZID:America/New_York
X-LIC-LOCATION:America/New_York
BEGIN:DAYLIGHT
DTSTART:20260308T030000
TZOFFSETFROM:-0500
TZOFFSETTO:-0400
TZNAME:EDT
END:DAYLIGHT
END:VTIMEZONE
END:VCALENDAR