BEGIN:VCALENDAR
VERSION:2.0
PRODID:-//wp-events-plugin.com//7.2.3.1//EN
TZID:America/New_York
X-WR-TIMEZONE:America/New_York
BEGIN:VEVENT
UID:1370@charitygolfguns.com
DTSTART;TZID=America/New_York:20260611T063000
DTEND;TZID=America/New_York:20260611T080000
DTSTAMP:20260401T153404Z
URL:https://charitygolfguns.com/events/2026-virginia-builders-foundation-n
 ova-golf-tournament/
SUMMARY:2026 Virginia Builders Foundation - NOVA Golf Tournament
DESCRIPTION:2026 Virginia Builders Foundation - NOVA Golf Tournament
CATEGORIES:Upcoming Events,Virginia
LOCATION:Westfields golf club\, 13940 Balmoral Greens Avenue \, Clifton\, \
 , VA\, 20124\, United States
X-APPLE-STRUCTURED-LOCATION;VALUE=URI;X-ADDRESS=13940 Balmoral Greens Avenu
 e \, Clifton\, \, VA\, 20124\, United States;X-APPLE-RADIUS=100;X-TITLE=We
 stfields golf club:geo:0,0
END:VEVENT
BEGIN:VTIMEZONE
TZID:America/New_York
X-LIC-LOCATION:America/New_York
BEGIN:DAYLIGHT
DTSTART:20260308T030000
TZOFFSETFROM:-0500
TZOFFSETTO:-0400
TZNAME:EDT
END:DAYLIGHT
END:VTIMEZONE
END:VCALENDAR