BEGIN:VCALENDAR
VERSION:2.0
PRODID:-//wp-events-plugin.com//7.2.3.1//EN
TZID:America/New_York
X-WR-TIMEZONE:America/New_York
BEGIN:VEVENT
UID:1350@charitygolfguns.com
DTSTART;TZID=America/New_York:20260529T090000
DTEND;TZID=America/New_York:20260529T103000
DTSTAMP:20260316T182651Z
URL:https://charitygolfguns.com/events/2026-united-we-golf/
SUMMARY:2026 UNITED We Golf
DESCRIPTION:2026 UNITED We Golf
CATEGORIES:Pennsylvania,Upcoming Events
LOCATION:Towanda Golf Club\, 645 Golden Mile Road \, Towanda\, \, PA \, 188
 48\, United States
X-APPLE-STRUCTURED-LOCATION;VALUE=URI;X-ADDRESS=645 Golden Mile Road \, Tow
 anda\, \, PA \, 18848\, United States;X-APPLE-RADIUS=100;X-TITLE=Towanda G
 olf Club:geo:0,0
END:VEVENT
BEGIN:VTIMEZONE
TZID:America/New_York
X-LIC-LOCATION:America/New_York
BEGIN:DAYLIGHT
DTSTART:20260308T030000
TZOFFSETFROM:-0500
TZOFFSETTO:-0400
TZNAME:EDT
END:DAYLIGHT
END:VTIMEZONE
END:VCALENDAR