BEGIN:VCALENDAR
VERSION:2.0
PRODID:-//wp-events-plugin.com//7.2.3.1//EN
TZID:America/New_York
X-WR-TIMEZONE:America/New_York
BEGIN:VEVENT
UID:1278@charitygolfguns.com
DTSTART;TZID=America/New_York:20260327T073000
DTEND;TZID=America/New_York:20260327T090000
DTSTAMP:20260324T183854Z
URL:https://charitygolfguns.com/events/2026-throwdown-weekend/
SUMMARY:2026 Throwdown Weekend
DESCRIPTION:2026 Throwdown Weekend
CATEGORIES:Florida,Upcoming Events
LOCATION:Burnt Pine\,  3300 Burnt Pine\,  Ln Miramar Beach\, \, FL \, 32550
 \, United States
X-APPLE-STRUCTURED-LOCATION;VALUE=URI;X-ADDRESS= 3300 Burnt Pine\,  Ln Mira
 mar Beach\, \, FL \, 32550\, United States;X-APPLE-RADIUS=100;X-TITLE=Burn
 t Pine:geo:0,0
END:VEVENT
BEGIN:VTIMEZONE
TZID:America/New_York
X-LIC-LOCATION:America/New_York
BEGIN:DAYLIGHT
DTSTART:20260308T030000
TZOFFSETFROM:-0500
TZOFFSETTO:-0400
TZNAME:EDT
END:DAYLIGHT
END:VTIMEZONE
END:VCALENDAR