BEGIN:VCALENDAR
VERSION:2.0
PRODID:-//wp-events-plugin.com//7.2.3.1//EN
TZID:America/New_York
X-WR-TIMEZONE:America/New_York
BEGIN:VEVENT
UID:1287@charitygolfguns.com
DTSTART;TZID=America/New_York:20260518T063000
DTEND;TZID=America/New_York:20260518T080000
DTSTAMP:20260309T154327Z
URL:https://charitygolfguns.com/events/2026-the-clay-dotson-open/
SUMMARY:2026 The Clay Dotson Open
DESCRIPTION:2026 The Clay Dotson Open
CATEGORIES:Georgia,Upcoming Events
LOCATION:Brasstown Valley Resort\, 6321 Hwy 76\, Young Harris\,\, GA\, 3058
 2-2606\, United States
X-APPLE-STRUCTURED-LOCATION;VALUE=URI;X-ADDRESS=6321 Hwy 76\, Young Harris\
 ,\, GA\, 30582-2606\, United States;X-APPLE-RADIUS=100;X-TITLE=Brasstown V
 alley Resort:geo:0,0
END:VEVENT
BEGIN:VTIMEZONE
TZID:America/New_York
X-LIC-LOCATION:America/New_York
BEGIN:DAYLIGHT
DTSTART:20260308T030000
TZOFFSETFROM:-0500
TZOFFSETTO:-0400
TZNAME:EDT
END:DAYLIGHT
END:VTIMEZONE
END:VCALENDAR