BEGIN:VCALENDAR
VERSION:2.0
PRODID:-//wp-events-plugin.com//7.2.3.1//EN
TZID:America/New_York
X-WR-TIMEZONE:America/New_York
BEGIN:VEVENT
UID:1253@charitygolfguns.com
DTSTART;TZID=America/New_York:20260501T063000
DTEND;TZID=America/New_York:20260501T080000
DTSTAMP:20260309T153524Z
URL:https://charitygolfguns.com/events/2026-the-8th-annual-catholic-cup-go
 lf-tournament/
SUMMARY:2026 The 8th Annual Catholic Cup Golf Tournament
DESCRIPTION:2026 The 8th Annual Catholic Cup Golf Tournament
CATEGORIES:Upcoming Events,Virginia
LOCATION:Cypress Point\, 5340 Club Head Road \, Virginia Beach\, \, VA \, 2
 3455\, United States
X-APPLE-STRUCTURED-LOCATION;VALUE=URI;X-ADDRESS=5340 Club Head Road \, Virg
 inia Beach\, \, VA \, 23455\, United States;X-APPLE-RADIUS=100;X-TITLE=Cyp
 ress Point:geo:0,0
END:VEVENT
BEGIN:VTIMEZONE
TZID:America/New_York
X-LIC-LOCATION:America/New_York
BEGIN:DAYLIGHT
DTSTART:20260308T030000
TZOFFSETFROM:-0500
TZOFFSETTO:-0400
TZNAME:EDT
END:DAYLIGHT
END:VTIMEZONE
END:VCALENDAR