BEGIN:VCALENDAR
VERSION:2.0
PRODID:-//wp-events-plugin.com//7.2.3.1//EN
TZID:America/New_York
X-WR-TIMEZONE:America/New_York
BEGIN:VEVENT
UID:1311@charitygolfguns.com
DTSTART;TZID=America/New_York:20260430T073000
DTEND;TZID=America/New_York:20260430T090000
DTSTAMP:20260309T153450Z
URL:https://charitygolfguns.com/events/2026-tees-for-keys-golf-tournament/
SUMMARY:2026 Tees for Keys Golf Tournament
DESCRIPTION:2026 Tees for Keys Golf Tournament
CATEGORIES:North Carolina,Upcoming Events
LOCATION:Lexington Country Club\,  200 Country Club Blvd   \, Lexington\, 
 \, NC\, 27292\, United States
X-APPLE-STRUCTURED-LOCATION;VALUE=URI;X-ADDRESS= 200 Country Club Blvd   \
 , Lexington\, \, NC\, 27292\, United States;X-APPLE-RADIUS=100;X-TITLE=Lex
 ington Country Club:geo:0,0
END:VEVENT
BEGIN:VTIMEZONE
TZID:America/New_York
X-LIC-LOCATION:America/New_York
BEGIN:DAYLIGHT
DTSTART:20260308T030000
TZOFFSETFROM:-0500
TZOFFSETTO:-0400
TZNAME:EDT
END:DAYLIGHT
END:VTIMEZONE
END:VCALENDAR