BEGIN:VCALENDAR
VERSION:2.0
PRODID:-//wp-events-plugin.com//7.2.3.1//EN
TZID:America/New_York
X-WR-TIMEZONE:America/New_York
BEGIN:VEVENT
UID:1335@charitygolfguns.com
DTSTART;TZID=America/New_York:20260704T073000
DTEND;TZID=America/New_York:20260704T090000
DTSTAMP:20260309T154701Z
URL:https://charitygolfguns.com/events/2026-seven-lakes-50th-anniversary-4
 th-of-july-golf-tournament/
SUMMARY:2026 Seven Lakes 50th Anniversary & 4th of July Golf Tournament
DESCRIPTION:2026 Seven Lakes 50th Anniversary & 4th of July Golf Tournament
CATEGORIES:North Carolina,Upcoming Events
LOCATION:Seven Lakes\, 124 East Devonshire Ave \, West End\, \, NC\, 27376\
 , United States
X-APPLE-STRUCTURED-LOCATION;VALUE=URI;X-ADDRESS=124 East Devonshire Ave \, 
 West End\, \, NC\, 27376\, United States;X-APPLE-RADIUS=100;X-TITLE=Seven 
 Lakes:geo:0,0
END:VEVENT
BEGIN:VTIMEZONE
TZID:America/New_York
X-LIC-LOCATION:America/New_York
BEGIN:DAYLIGHT
DTSTART:20260308T030000
TZOFFSETFROM:-0500
TZOFFSETTO:-0400
TZNAME:EDT
END:DAYLIGHT
END:VTIMEZONE
END:VCALENDAR