BEGIN:VCALENDAR
VERSION:2.0
PRODID:-//wp-events-plugin.com//7.2.3.1//EN
TZID:America/New_York
X-WR-TIMEZONE:America/New_York
BEGIN:VEVENT
UID:1364@charitygolfguns.com
DTSTART;TZID=America/New_York:20260505T103000
DTEND;TZID=America/New_York:20260505T120000
DTSTAMP:20260329T132229Z
URL:https://charitygolfguns.com/events/2026-scotland-regional-hospice-golf
 -tournament-day-1/
SUMMARY:2026 Scotland Regional Hospice golf tournament day 1
DESCRIPTION:2026 Scotland Regional Hospice golf tournament day 1
CATEGORIES:North Carolina,Upcoming Events
LOCATION:Scotch Meadows\, Scotch Meadows 8100 Tartan Rd\, \, Laurinburg \, 
 \, NC \, 28352\, United States
X-APPLE-STRUCTURED-LOCATION;VALUE=URI;X-ADDRESS=Scotch Meadows 8100 Tartan 
 Rd\, \, Laurinburg \, \, NC \, 28352\, United States;X-APPLE-RADIUS=100;X-
 TITLE=Scotch Meadows:geo:0,0
END:VEVENT
BEGIN:VTIMEZONE
TZID:America/New_York
X-LIC-LOCATION:America/New_York
BEGIN:DAYLIGHT
DTSTART:20260308T030000
TZOFFSETFROM:-0500
TZOFFSETTO:-0400
TZNAME:EDT
END:DAYLIGHT
END:VTIMEZONE
END:VCALENDAR