BEGIN:VCALENDAR
VERSION:2.0
PRODID:-//wp-events-plugin.com//7.2.3.1//EN
TZID:America/New_York
X-WR-TIMEZONE:America/New_York
BEGIN:VEVENT
UID:1367@charitygolfguns.com
DTSTART;TZID=America/New_York:20260612T060000
DTEND;TZID=America/New_York:20260612T073000
DTSTAMP:20260331T142117Z
URL:https://charitygolfguns.com/events/2026-ron-jaworskis-celebrity-golf-c
 hallenge/
SUMMARY:2026 Ron Jaworski's Celebrity Golf Challenge
DESCRIPTION:2026 Ron Jaworski's Celebrity Golf Challenge
CATEGORIES:New Jersey,Upcoming Events
LOCATION:RiverWinds Golf & Tennis\,  1000 Riverwinds Drive \, West Deptford
 \, \, NJ\,  08086\, United States
X-APPLE-STRUCTURED-LOCATION;VALUE=URI;X-ADDRESS= 1000 Riverwinds Drive \, W
 est Deptford\, \, NJ\,  08086\, United States;X-APPLE-RADIUS=100;X-TITLE=R
 iverWinds Golf & Tennis:geo:0,0
END:VEVENT
BEGIN:VTIMEZONE
TZID:America/New_York
X-LIC-LOCATION:America/New_York
BEGIN:DAYLIGHT
DTSTART:20260308T030000
TZOFFSETFROM:-0500
TZOFFSETTO:-0400
TZNAME:EDT
END:DAYLIGHT
END:VTIMEZONE
END:VCALENDAR