BEGIN:VCALENDAR
VERSION:2.0
PRODID:-//wp-events-plugin.com//7.2.3.1//EN
TZID:America/New_York
X-WR-TIMEZONE:America/New_York
BEGIN:VEVENT
UID:1395@charitygolfguns.com
DTSTART;TZID=America/New_York:20260605T083000
DTEND;TZID=America/New_York:20260605T100000
DTSTAMP:20260422T131430Z
URL:https://charitygolfguns.com/events/2026-prisma-health-sports-medicine-
 annual-golf-invitational/
SUMMARY:2026 Prisma Health Sports Medicine Annual Golf Invitational
DESCRIPTION:2026 Prisma Health Sports Medicine Annual Golf Invitational
CATEGORIES:SOuth Carolina,Upcoming Events
LOCATION:Fort Jackson golf club\, 3625 Semmes road\, Fort Jackson\, SC\, 29
 207\, United States
X-APPLE-STRUCTURED-LOCATION;VALUE=URI;X-ADDRESS=3625 Semmes road\, Fort Jac
 kson\, SC\, 29207\, United States;X-APPLE-RADIUS=100;X-TITLE=Fort Jackson 
 golf club:geo:0,0
END:VEVENT
BEGIN:VTIMEZONE
TZID:America/New_York
X-LIC-LOCATION:America/New_York
BEGIN:DAYLIGHT
DTSTART:20260308T030000
TZOFFSETFROM:-0500
TZOFFSETTO:-0400
TZNAME:EDT
END:DAYLIGHT
END:VTIMEZONE
END:VCALENDAR