BEGIN:VCALENDAR
VERSION:2.0
PRODID:-//wp-events-plugin.com//7.2.3.1//EN
TZID:America/New_York
X-WR-TIMEZONE:America/New_York
BEGIN:VEVENT
UID:1369@charitygolfguns.com
DTSTART;TZID=America/New_York:20260904T073000
DTEND;TZID=America/New_York:20260904T090000
DTSTAMP:20260331T192459Z
URL:https://charitygolfguns.com/events/2026-paralyzed-veterans-golf-tourna
 ment-premier-truck-group-of-knoxville/
SUMMARY:2026 Paralyzed Veterans Golf Tournament - Premier Truck Group Of Kn
 oxville
DESCRIPTION:2026 Paralyzed Veterans Golf Tournament - Premier Truck Group O
 f Knoxville
CATEGORIES:Tennessee,Upcoming Events
LOCATION:Avalon Country CLub\, 700 TURNBERRY CIR\,  LENOIR CITY\, \, TN \, 
 37772\, United States
X-APPLE-STRUCTURED-LOCATION;VALUE=URI;X-ADDRESS=700 TURNBERRY CIR\,  LENOIR
  CITY\, \, TN \, 37772\, United States;X-APPLE-RADIUS=100;X-TITLE=Avalon C
 ountry CLub:geo:0,0
END:VEVENT
BEGIN:VTIMEZONE
TZID:America/New_York
X-LIC-LOCATION:America/New_York
BEGIN:DAYLIGHT
DTSTART:20260308T030000
TZOFFSETFROM:-0500
TZOFFSETTO:-0400
TZNAME:EDT
END:DAYLIGHT
END:VTIMEZONE
END:VCALENDAR