BEGIN:VCALENDAR
VERSION:2.0
PRODID:-//wp-events-plugin.com//7.2.3.1//EN
TZID:America/New_York
X-WR-TIMEZONE:America/New_York
BEGIN:VEVENT
UID:1285@charitygolfguns.com
DTSTART;TZID=America/New_York:20260323T103000
DTEND;TZID=America/New_York:20260323T120000
DTSTAMP:20260316T132643Z
URL:https://charitygolfguns.com/events/2026-optimist-club-of-rock-hill-gol
 f-tournament/
SUMMARY:2026 Optimist Club of Rock Hill golf tournament
DESCRIPTION:2026 Optimist Club of Rock Hill golf tournament
CATEGORIES:SOuth Carolina,Upcoming Events
LOCATION:Rock Hill country Club\, 600 Country Club Dr.  \, Rock Hill\,\, SC
 \,  29732\, United States
X-APPLE-STRUCTURED-LOCATION;VALUE=URI;X-ADDRESS=600 Country Club Dr.  \, Ro
 ck Hill\,\, SC\,  29732\, United States;X-APPLE-RADIUS=100;X-TITLE=Rock Hi
 ll country Club:geo:0,0
END:VEVENT
BEGIN:VTIMEZONE
TZID:America/New_York
X-LIC-LOCATION:America/New_York
BEGIN:DAYLIGHT
DTSTART:20260308T030000
TZOFFSETFROM:-0500
TZOFFSETTO:-0400
TZNAME:EDT
END:DAYLIGHT
END:VTIMEZONE
END:VCALENDAR