BEGIN:VCALENDAR
VERSION:2.0
PRODID:-//wp-events-plugin.com//7.2.3.1//EN
TZID:America/New_York
X-WR-TIMEZONE:America/New_York
BEGIN:VEVENT
UID:1288@charitygolfguns.com
DTSTART;TZID=America/New_York:20261019T080000
DTEND;TZID=America/New_York:20261019T093000
DTSTAMP:20260309T155325Z
URL:https://charitygolfguns.com/events/2026-new-south-foundation-golf-tour
 nament/
SUMMARY:2026 New South Foundation Golf Tournament
DESCRIPTION:2026 New South Foundation Golf Tournament
CATEGORIES:Atlanta,Georgia,Upcoming Events
LOCATION:Eagles landing\, 100 Eagle's Landing Way \, Stockbridge\, \, GA \,
  30281\, United States
X-APPLE-STRUCTURED-LOCATION;VALUE=URI;X-ADDRESS=100 Eagle's Landing Way \, 
 Stockbridge\, \, GA \, 30281\, United States;X-APPLE-RADIUS=100;X-TITLE=Ea
 gles landing:geo:0,0
END:VEVENT
BEGIN:VTIMEZONE
TZID:America/New_York
X-LIC-LOCATION:America/New_York
BEGIN:DAYLIGHT
DTSTART:20260308T030000
TZOFFSETFROM:-0500
TZOFFSETTO:-0400
TZNAME:EDT
END:DAYLIGHT
END:VTIMEZONE
END:VCALENDAR