BEGIN:VCALENDAR
VERSION:2.0
PRODID:-//wp-events-plugin.com//7.2.3.1//EN
TZID:America/New_York
X-WR-TIMEZONE:America/New_York
BEGIN:VEVENT
UID:1391@charitygolfguns.com
DTSTART;TZID=America/New_York:20260608T113000
DTEND;TZID=America/New_York:20260608T130000
DTSTAMP:20260421T130118Z
URL:https://charitygolfguns.com/events/2026-megan-schulman-golf-classic/
SUMMARY:2026 Megan Schulman golf classic
DESCRIPTION: 2026 Megan Schulman golf classic
CATEGORIES:New Jersey,Upcoming Events
LOCATION:Knob Hill Golf CLub\, 1 Shinnecock Drive  \, Manalapan\,\, NJ \, 0
 7726\, United States
X-APPLE-STRUCTURED-LOCATION;VALUE=URI;X-ADDRESS=1 Shinnecock Drive  \, Mana
 lapan\,\, NJ \, 07726\, United States;X-APPLE-RADIUS=100;X-TITLE=Knob Hill
  Golf CLub:geo:0,0
END:VEVENT
BEGIN:VTIMEZONE
TZID:America/New_York
X-LIC-LOCATION:America/New_York
BEGIN:DAYLIGHT
DTSTART:20260308T030000
TZOFFSETFROM:-0500
TZOFFSETTO:-0400
TZNAME:EDT
END:DAYLIGHT
END:VTIMEZONE
END:VCALENDAR