BEGIN:VCALENDAR
VERSION:2.0
PRODID:-//wp-events-plugin.com//7.2.3.1//EN
TZID:America/New_York
X-WR-TIMEZONE:America/New_York
BEGIN:VEVENT
UID:1373@charitygolfguns.com
DTSTART;TZID=America/New_York:20260921T073000
DTEND;TZID=America/New_York:20260921T090000
DTSTAMP:20260402T184914Z
URL:https://charitygolfguns.com/events/2026-matthews-help-centers-golf-for
 e-families-tournament/
SUMMARY:2026 Matthews HELP Center's Golf "Fore" Families Tournament
DESCRIPTION:2026 Matthews HELP Center's Golf "Fore" Families Tournament
CATEGORIES:Charlotte,North Carolina,Upcoming Events
LOCATION:Emerald Lake Golf Club\, 9750 Tournament Dr\,  Matthews \, NC\, 28
 104\, United States
X-APPLE-STRUCTURED-LOCATION;VALUE=URI;X-ADDRESS=9750 Tournament Dr\,  Matth
 ews \, NC\, 28104\, United States;X-APPLE-RADIUS=100;X-TITLE=Emerald Lake 
 Golf Club:geo:0,0
END:VEVENT
BEGIN:VTIMEZONE
TZID:America/New_York
X-LIC-LOCATION:America/New_York
BEGIN:DAYLIGHT
DTSTART:20260308T030000
TZOFFSETFROM:-0500
TZOFFSETTO:-0400
TZNAME:EDT
END:DAYLIGHT
END:VTIMEZONE
END:VCALENDAR