BEGIN:VCALENDAR
VERSION:2.0
PRODID:-//wp-events-plugin.com//7.2.3.1//EN
TZID:America/New_York
X-WR-TIMEZONE:America/New_York
BEGIN:VEVENT
UID:1239@charitygolfguns.com
DTSTART;TZID=America/New_York:20260425T063000
DTEND;TZID=America/New_York:20260425T080000
DTSTAMP:20260309T153129Z
URL:https://charitygolfguns.com/events/2026-louisiana-wildlife-agents-asso
 ciation-charity-golf-tournament/
SUMMARY:2026 Louisiana Wildlife Agents Association Charity Golf Tournament
DESCRIPTION:2026 Louisiana Wildlife Agents Association Charity Golf Tournam
 ent
CATEGORIES:Louisiana,Upcoming Events
LOCATION:The Wetlands\, 2129 North University Ave \, Lafayette\,\,  LA \, 7
 0507\, United States
X-APPLE-STRUCTURED-LOCATION;VALUE=URI;X-ADDRESS=2129 North University Ave \
 , Lafayette\,\,  LA \, 70507\, United States;X-APPLE-RADIUS=100;X-TITLE=Th
 e Wetlands:geo:0,0
END:VEVENT
BEGIN:VTIMEZONE
TZID:America/New_York
X-LIC-LOCATION:America/New_York
BEGIN:DAYLIGHT
DTSTART:20260308T030000
TZOFFSETFROM:-0500
TZOFFSETTO:-0400
TZNAME:EDT
END:DAYLIGHT
END:VTIMEZONE
END:VCALENDAR