BEGIN:VCALENDAR
VERSION:2.0
PRODID:-//wp-events-plugin.com//7.2.3.1//EN
TZID:America/New_York
X-WR-TIMEZONE:America/New_York
BEGIN:VEVENT
UID:1394@charitygolfguns.com
DTSTART;TZID=America/New_York:20260912T000000
DTEND;TZID=America/New_York:20260912T133000
DTSTAMP:20260421T150605Z
URL:https://charitygolfguns.com/events/2026-kirk-nairn-memorial-scholarshi
 p/
SUMMARY:2026 Kirk Nairn Memorial Scholarship
DESCRIPTION:2026 Kirk Nairn Memorial Scholarship
CATEGORIES:Upcoming Events,Virginia
LOCATION:Glenrochie country club\, 200 Clubhouse Dr\,  Abingdon\, \, VA\,  
 24210\, United States
X-APPLE-STRUCTURED-LOCATION;VALUE=URI;X-ADDRESS=200 Clubhouse Dr\,  Abingdo
 n\, \, VA\,  24210\, United States;X-APPLE-RADIUS=100;X-TITLE=Glenrochie c
 ountry club:geo:0,0
END:VEVENT
BEGIN:VTIMEZONE
TZID:America/New_York
X-LIC-LOCATION:America/New_York
BEGIN:DAYLIGHT
DTSTART:20260308T030000
TZOFFSETFROM:-0500
TZOFFSETTO:-0400
TZNAME:EDT
END:DAYLIGHT
END:VTIMEZONE
END:VCALENDAR