BEGIN:VCALENDAR
VERSION:2.0
PRODID:-//wp-events-plugin.com//7.2.3.1//EN
TZID:America/New_York
X-WR-TIMEZONE:America/New_York
BEGIN:VEVENT
UID:1393@charitygolfguns.com
DTSTART;TZID=America/New_York:20260911T073000
DTEND;TZID=America/New_York:20260911T091500
DTSTAMP:20260421T150329Z
URL:https://charitygolfguns.com/events/2026-khowst-memorial-golf-tournamen
 t/
SUMMARY:2026 Khowst Memorial Golf Tournament
DESCRIPTION:2026 Khowst Memorial Golf Tournament
CATEGORIES:Upcoming Events,Virginia
LOCATION:Evergreen Country Club\,  15900 Berkley Drive \, Haymarket\, \, VA
  \, 20169\, United States
X-APPLE-STRUCTURED-LOCATION;VALUE=URI;X-ADDRESS= 15900 Berkley Drive \, Hay
 market\, \, VA \, 20169\, United States;X-APPLE-RADIUS=100;X-TITLE=Evergre
 en Country Club:geo:0,0
END:VEVENT
BEGIN:VTIMEZONE
TZID:America/New_York
X-LIC-LOCATION:America/New_York
BEGIN:DAYLIGHT
DTSTART:20260308T030000
TZOFFSETFROM:-0500
TZOFFSETTO:-0400
TZNAME:EDT
END:DAYLIGHT
END:VTIMEZONE
END:VCALENDAR