BEGIN:VCALENDAR
VERSION:2.0
PRODID:-//wp-events-plugin.com//7.2.3.1//EN
TZID:America/New_York
X-WR-TIMEZONE:America/New_York
BEGIN:VEVENT
UID:1383@charitygolfguns.com
DTSTART;TZID=America/New_York:20260519T073000
DTEND;TZID=America/New_York:20260519T090000
DTSTAMP:20260409T222253Z
URL:https://charitygolfguns.com/events/2026-iecc-raspberry-falls-golf-tour
 nament/
SUMMARY:2026 IECC Raspberry Falls Golf Tournament 
DESCRIPTION:\nThe date for the tournament\n05/19/2026\n\n\n\nTee off time (
 not registration time)\n9:00 AM\n\n\n\nTournament Name\n2026 IECC Raspberr
 y Falls Golf Tournament\n\n\n\nGolf Course name\n\n\nRaspberry Falls\n\n\n
 Golf Course address (hover over and select your state)\n41601 Raspberry Dr
 ive\nLeesburg\, VA 21076\n\n\n\n\n\nLauncher to be used (East coast option
 s)\n1 AR 15 -- (Par 5)\n\n\n\nHow many registered players do you expect?\n
 101-120\n\n\n\nTournament Format\nShotgun start\n\n\n\nThis agreement is m
 ade on 04/09/2026\n\n\n\n\n\n\n\nI understand I WILL HAVE to provide a gol
 f cart for the representative for their use for the duration of the event.
  (insurance requirement)\n\nYES\, We will provide a cart.\n
CATEGORIES:Upcoming Events,Virginia
LOCATION:Raspberry falls\, 41601 raspberry dr \, leesburg\, VA\, 20175\, Un
 ited States
X-APPLE-STRUCTURED-LOCATION;VALUE=URI;X-ADDRESS=41601 raspberry dr \, leesb
 urg\, VA\, 20175\, United States;X-APPLE-RADIUS=100;X-TITLE=Raspberry fall
 s:geo:0,0
END:VEVENT
BEGIN:VTIMEZONE
TZID:America/New_York
X-LIC-LOCATION:America/New_York
BEGIN:DAYLIGHT
DTSTART:20260308T030000
TZOFFSETFROM:-0500
TZOFFSETTO:-0400
TZNAME:EDT
END:DAYLIGHT
END:VTIMEZONE
END:VCALENDAR