BEGIN:VCALENDAR
VERSION:2.0
PRODID:-//wp-events-plugin.com//7.2.3.1//EN
TZID:America/New_York
X-WR-TIMEZONE:America/New_York
BEGIN:VEVENT
UID:1360@charitygolfguns.com
DTSTART;TZID=America/New_York:20260508T073000
DTEND;TZID=America/New_York:20260508T090000
DTSTAMP:20260326T140059Z
URL:https://charitygolfguns.com/events/2026-glen-rock-pba-golf-outing/
SUMMARY:2026 Glen Rock PBA Golf Outing
DESCRIPTION:2026 Glen Rock PBA Golf Outing
CATEGORIES:New Jersey,Upcoming Events
LOCATION:Crystal Springs\,  1 wild turkey way \, Hamburg\, \, NJ\,  07419\,
  United States
X-APPLE-STRUCTURED-LOCATION;VALUE=URI;X-ADDRESS= 1 wild turkey way \, Hambu
 rg\, \, NJ\,  07419\, United States;X-APPLE-RADIUS=100;X-TITLE=Crystal Spr
 ings:geo:0,0
END:VEVENT
BEGIN:VTIMEZONE
TZID:America/New_York
X-LIC-LOCATION:America/New_York
BEGIN:DAYLIGHT
DTSTART:20260308T030000
TZOFFSETFROM:-0500
TZOFFSETTO:-0400
TZNAME:EDT
END:DAYLIGHT
END:VTIMEZONE
END:VCALENDAR