BEGIN:VCALENDAR
VERSION:2.0
PRODID:-//wp-events-plugin.com//7.2.3.1//EN
TZID:America/New_York
X-WR-TIMEZONE:America/New_York
BEGIN:VEVENT
UID:1308@charitygolfguns.com
DTSTART;TZID=America/New_York:20260501T073000
DTEND;TZID=America/New_York:20260501T090000
DTSTAMP:20260309T153622Z
URL:https://charitygolfguns.com/events/2026-deputy-marcus-whitfield-memori
 al-golf-tournament/
SUMMARY:2026 Deputy Marcus Whitfield Memorial Golf Tournament
DESCRIPTION:2026 Deputy Marcus Whitfield Memorial Golf Tournament
CATEGORIES:SOuth Carolina,Upcoming Events
LOCATION:Links O’ Tryon\,  11250 New Cut Road Campobello\, \, Campobello\
 , SC \, 29322\, United States
X-APPLE-STRUCTURED-LOCATION;VALUE=URI;X-ADDRESS= 11250 New Cut Road Campobe
 llo\, \, Campobello\, SC \, 29322\, United States;X-APPLE-RADIUS=100;X-TIT
 LE=Links O’ Tryon:geo:0,0
END:VEVENT
BEGIN:VTIMEZONE
TZID:America/New_York
X-LIC-LOCATION:America/New_York
BEGIN:DAYLIGHT
DTSTART:20260308T030000
TZOFFSETFROM:-0500
TZOFFSETTO:-0400
TZNAME:EDT
END:DAYLIGHT
END:VTIMEZONE
END:VCALENDAR