BEGIN:VCALENDAR
VERSION:2.0
PRODID:-//wp-events-plugin.com//7.2.3.1//EN
TZID:America/New_York
X-WR-TIMEZONE:America/New_York
BEGIN:VEVENT
UID:1283@charitygolfguns.com
DTSTART;TZID=America/New_York:20260825T070000
DTEND;TZID=America/New_York:20260825T083000
DTSTAMP:20260309T154852Z
URL:https://charitygolfguns.com/events/2026-coach-cave-golf-tournament/
SUMMARY:2026 Coach Cave Golf Tournament
DESCRIPTION:2026 Coach Cave Golf Tournament
CATEGORIES:Georgia,Upcoming Events
LOCATION:The Orchard Golf and Country Club\, 1057 Orchard Drive \, Clarkesv
 ille\,\,  GA \, 30523\, United States
X-APPLE-STRUCTURED-LOCATION;VALUE=URI;X-ADDRESS=1057 Orchard Drive \, Clark
 esville\,\,  GA \, 30523\, United States;X-APPLE-RADIUS=100;X-TITLE=The Or
 chard Golf and Country Club:geo:0,0
END:VEVENT
BEGIN:VTIMEZONE
TZID:America/New_York
X-LIC-LOCATION:America/New_York
BEGIN:DAYLIGHT
DTSTART:20260308T030000
TZOFFSETFROM:-0500
TZOFFSETTO:-0400
TZNAME:EDT
END:DAYLIGHT
END:VTIMEZONE
END:VCALENDAR