BEGIN:VCALENDAR
VERSION:2.0
PRODID:-//wp-events-plugin.com//7.2.3.1//EN
TZID:America/New_York
X-WR-TIMEZONE:America/New_York
BEGIN:VEVENT
UID:1348@charitygolfguns.com
DTSTART;TZID=America/New_York:20260522T070000
DTEND;TZID=America/New_York:20260522T083000
DTSTAMP:20260316T162710Z
URL:https://charitygolfguns.com/events/2026-camp-care-eclaro-golf-classic/
SUMMARY:2026 Camp CARE Eclaro Golf Classic
DESCRIPTION:2026 Camp CARE Eclaro Golf Classic
CATEGORIES:SOuth Carolina,Upcoming Events
LOCATION:Carolina Lakes\,  23012 Kingfisher Dr \,  Indian Land\, SC\,  2970
 7\, United States
X-APPLE-STRUCTURED-LOCATION;VALUE=URI;X-ADDRESS= 23012 Kingfisher Dr \,  In
 dian Land\, SC\,  29707\, United States;X-APPLE-RADIUS=100;X-TITLE=Carolin
 a Lakes:geo:0,0
END:VEVENT
BEGIN:VTIMEZONE
TZID:America/New_York
X-LIC-LOCATION:America/New_York
BEGIN:DAYLIGHT
DTSTART:20260308T030000
TZOFFSETFROM:-0500
TZOFFSETTO:-0400
TZNAME:EDT
END:DAYLIGHT
END:VTIMEZONE
END:VCALENDAR