BEGIN:VCALENDAR
VERSION:2.0
PRODID:-//wp-events-plugin.com//7.2.3.1//EN
TZID:America/New_York
X-WR-TIMEZONE:America/New_York
BEGIN:VEVENT
UID:1273@charitygolfguns.com
DTSTART;TZID=America/New_York:20260529T063000
DTEND;TZID=America/New_York:20260529T080000
DTSTAMP:20260309T154544Z
URL:https://charitygolfguns.com/events/2026-brett-crowe-memorial-golf-tour
 nament/
SUMMARY:2026 Brett Crowe Memorial Golf Tournament
DESCRIPTION:2026 Brett Crowe Memorial Golf Tournament
CATEGORIES:SOuth Carolina,Upcoming Events
LOCATION:Cobbs Glenn\, 2201 Cobbs Way \, Anderson\, \, SC \, 29621\, United
  States
X-APPLE-STRUCTURED-LOCATION;VALUE=URI;X-ADDRESS=2201 Cobbs Way \, Anderson\
 , \, SC \, 29621\, United States;X-APPLE-RADIUS=100;X-TITLE=Cobbs Glenn:ge
 o:0,0
END:VEVENT
BEGIN:VTIMEZONE
TZID:America/New_York
X-LIC-LOCATION:America/New_York
BEGIN:DAYLIGHT
DTSTART:20260308T030000
TZOFFSETFROM:-0500
TZOFFSETTO:-0400
TZNAME:EDT
END:DAYLIGHT
END:VTIMEZONE
END:VCALENDAR