BEGIN:VCALENDAR
VERSION:2.0
PRODID:-//wp-events-plugin.com//7.2.3.1//EN
TZID:America/New_York
X-WR-TIMEZONE:America/New_York
BEGIN:VEVENT
UID:1372@charitygolfguns.com
DTSTART;TZID=America/New_York:20260605T090000
DTEND;TZID=America/New_York:20260605T103000
DTSTAMP:20260402T184645Z
URL:https://charitygolfguns.com/events/2026-ben-mack-memorial/
SUMMARY:2026 Ben Mack Memorial
DESCRIPTION:2026 Ben Mack Memorial
CATEGORIES:Charlotte,North Carolina,Upcoming Events
LOCATION:Scotch Meadows\, Scotch Meadows 8100 Tartan Rd\, \, Laurinburg \, 
 \, NC \, 28352\, United States
X-APPLE-STRUCTURED-LOCATION;VALUE=URI;X-ADDRESS=Scotch Meadows 8100 Tartan 
 Rd\, \, Laurinburg \, \, NC \, 28352\, United States;X-APPLE-RADIUS=100;X-
 TITLE=Scotch Meadows:geo:0,0
END:VEVENT
BEGIN:VTIMEZONE
TZID:America/New_York
X-LIC-LOCATION:America/New_York
BEGIN:DAYLIGHT
DTSTART:20260308T030000
TZOFFSETFROM:-0500
TZOFFSETTO:-0400
TZNAME:EDT
END:DAYLIGHT
END:VTIMEZONE
END:VCALENDAR