BEGIN:VCALENDAR
VERSION:2.0
PRODID:-//wp-events-plugin.com//7.2.3.1//EN
TZID:America/New_York
X-WR-TIMEZONE:America/New_York
BEGIN:VEVENT
UID:1371@charitygolfguns.com
DTSTART;TZID=America/New_York:20261027T083000
DTEND;TZID=America/New_York:20261027T100000
DTSTAMP:20260401T153641Z
URL:https://charitygolfguns.com/events/2026-aw-sl-trade-partners-charity-g
 olf-tournament-2/
SUMMARY:2026 AW SL Trade Partners Charity Golf Tournament
DESCRIPTION:2026 AW SL Trade Partners Charity Golf Tournament
CATEGORIES:Atlanta,Georgia
LOCATION:Atlanta National Golf Course\,  350 Tournament Players Drive \, M
 ilton\, \, GA \, 30004\, United States
X-APPLE-STRUCTURED-LOCATION;VALUE=URI;X-ADDRESS= 350 Tournament Players Dri
 ve \, Milton\, \, GA \, 30004\, United States;X-APPLE-RADIUS=100;X-TITLE=A
 tlanta National Golf Course:geo:0,0
END:VEVENT
BEGIN:VTIMEZONE
TZID:America/New_York
X-LIC-LOCATION:America/New_York
BEGIN:DAYLIGHT
DTSTART:20260308T030000
TZOFFSETFROM:-0500
TZOFFSETTO:-0400
TZNAME:EDT
END:DAYLIGHT
END:VTIMEZONE
END:VCALENDAR