BEGIN:VCALENDAR
VERSION:2.0
PRODID:-//wp-events-plugin.com//7.2.3.1//EN
TZID:America/New_York
X-WR-TIMEZONE:America/New_York
BEGIN:VEVENT
UID:1289@charitygolfguns.com
DTSTART;TZID=America/New_York:20260504T073000
DTEND;TZID=America/New_York:20260504T090000
DTSTAMP:20260309T153821Z
URL:https://charitygolfguns.com/events/2026-6th-annual-strong-like-ak-take
 -a-swing-at-pediatric-cancer-golf-tournament/
SUMMARY:2026 6th Annual Strong Like AK Take A Swing at Pediatric Cancer Gol
 f Tournament
DESCRIPTION:2026 6th Annual Strong Like AK Take A Swing at Pediatric Cancer
  Golf Tournament
CATEGORIES:Charlotte,North Carolina,Upcoming Events
LOCATION:Cramer Mt Country Club\, 102 Hidden Pastures Dr\, \, Cramerton\,\,
   NC \, 28032\, United States
X-APPLE-STRUCTURED-LOCATION;VALUE=URI;X-ADDRESS=102 Hidden Pastures Dr\, \,
  Cramerton\,\,  NC \, 28032\, United States;X-APPLE-RADIUS=100;X-TITLE=Cra
 mer Mt Country Club:geo:0,0
END:VEVENT
BEGIN:VTIMEZONE
TZID:America/New_York
X-LIC-LOCATION:America/New_York
BEGIN:DAYLIGHT
DTSTART:20260308T030000
TZOFFSETFROM:-0500
TZOFFSETTO:-0400
TZNAME:EDT
END:DAYLIGHT
END:VTIMEZONE
END:VCALENDAR